BEGIN:VCALENDAR
VERSION:2.0
PRODID:-//wp-events-plugin.com//7.2.3.1//EN
TZID:America/New_York
X-WR-TIMEZONE:America/New_York
BEGIN:VEVENT
UID:15@researchweek.unc.edu
DTSTART;TZID=America/New_York:20211108T150000
DTEND;TZID=America/New_York:20211108T160000
DTSTAMP:20230712T195300Z
URL:https://researchweek.unc.edu/events/youth-dev-self-regulation-2021/
SUMMARY:Promoting Youth Development through Self-Regulation Programs and Pr
 actices
DESCRIPTION:Dr. Murray is a clinical psychologist and prevention scientist 
 whose research focuses on promoting positive youth development\, particula
 rly for those living in adversity\, by creating more supportive home\, sch
 ool\, and community environments. A key focus of her work is building the 
 capacity of educators to provide co-regulation supports to adolescents thr
 ough consistent relationships\, a supportive school climate\, and intentio
 nal teacher-student interactions. In addition\, she is interested in under
 standing how student and teacher stress contribute to emotion dysregulatio
 n\, using novel approaches including ecological momentary assessment. Curr
 ent research projects include implementing a mindfulness-based self-regula
 tion program to promote healthy relationship skills and evaluating a traum
 a-informed professional development program for Head Start teachers.\n\nCl
 ick here for zoom link\n\nPhoto credit: CODNewsroom
ATTACH;FMTTYPE=image/jpeg:https://researchweek.unc.edu/wp-content/uploads/
 2021/10/38044255981_10e3b49414_k.jpg
LOCATION:https://unc.zoom.us/j/93094566099?pwd=cWxIWUp3VkJKYk1oZ2psSi9vb3JT
 dz09
END:VEVENT
BEGIN:VTIMEZONE
TZID:America/New_York
X-LIC-LOCATION:America/New_York
BEGIN:STANDARD
DTSTART:20211107T010000
TZOFFSETFROM:-0400
TZOFFSETTO:-0500
TZNAME:EST
END:STANDARD
END:VTIMEZONE
END:VCALENDAR