BEGIN:VCALENDAR
VERSION:2.0
PRODID:-//wp-events-plugin.com//7.2.3.1//EN
TZID:America/New_York
X-WR-TIMEZONE:America/New_York
BEGIN:VEVENT
UID:84@researchweek.unc.edu
DTSTART;TZID=America/New_York:20221010T170000
DTEND;TZID=America/New_York:20221010T180000
DTSTAMP:20230719T190421Z
URL:https://researchweek.unc.edu/events/undergraduate-research-study-abroa
 d-2022/
SUMMARY:Undergraduate Research and Study Abroad
DESCRIPTION:This event is now online.\n\nMore undergraduates are finding cr
 eative ways to combine study abroad and research. Join us to learn more ab
 out study abroad programs that include credit-bearing research opportuniti
 es. \n\nRepresentatives from the Office of Undergraduate Research and the 
 Study Abroad Office will lead the session\, and an undergraduate panel wil
 l describe their experiences doing research abroad.\n\nClick Here for this
  Events Zoom Link
ATTACH;FMTTYPE=image/jpeg:https://researchweek.unc.edu/wp-content/uploads/
 2022/08/8U7A3871_edited-scaled.jpg
LOCATION:https://our.unc.edu/event/7800/
END:VEVENT
BEGIN:VTIMEZONE
TZID:America/New_York
X-LIC-LOCATION:America/New_York
BEGIN:DAYLIGHT
DTSTART:20220313T030000
TZOFFSETFROM:-0500
TZOFFSETTO:-0400
TZNAME:EDT
END:DAYLIGHT
END:VTIMEZONE
END:VCALENDAR