BEGIN:VCALENDAR
VERSION:2.0
PRODID:-//wp-events-plugin.com//7.2.3.1//EN
TZID:America/New_York
X-WR-TIMEZONE:America/New_York
BEGIN:VEVENT
UID:76@researchweek.unc.edu
DTSTART;TZID=America/New_York;VALUE=DATE:20221010
DTEND;TZID=America/New_York;VALUE=DATE:20221015
DTSTAMP:20230719T182940Z
URL:https://researchweek.unc.edu/events/unc-nri-human-research-core-servic
 es-2022/
SUMMARY:[Video – On Demand] UNC Nutrition Research Institute\, Human Rese
 arch Core Services Video
DESCRIPTION:Learn about the Human Research Core\, or HRC\, at the UNC Nutri
 tion Research Institute\, directed by Dr. Saroja Voruganti. We provide hum
 an nutrition research investigators with multi-disciplinary services\, inc
 luding consultation\, customized diet preparation\, phlebotomy and equipme
 nt in one location. \n\n
ATTACH;FMTTYPE=image/jpeg:https://researchweek.unc.edu/wp-content/uploads/
 2022/10/AKR15111-scaled.jpg
LOCATION:https://player.vimeo.com/video/758017300?h=7fe9448c90
END:VEVENT
BEGIN:VTIMEZONE
TZID:America/New_York
X-LIC-LOCATION:America/New_York
BEGIN:DAYLIGHT
DTSTART:20220313T030000
TZOFFSETFROM:-0500
TZOFFSETTO:-0400
TZNAME:EDT
END:DAYLIGHT
END:VTIMEZONE
END:VCALENDAR