BEGIN:VCALENDAR
VERSION:2.0
PRODID:-//wp-events-plugin.com//7.2.3.1//EN
TZID:America/New_York
X-WR-TIMEZONE:America/New_York
BEGIN:VEVENT
UID:13@researchweek.unc.edu
DTSTART;TZID=America/New_York:20211108T130000
DTEND;TZID=America/New_York:20211108T140000
DTSTAMP:20230712T194431Z
URL:https://researchweek.unc.edu/events/unc-is-getting-an-rdc/
SUMMARY:UNC is getting an RDC
DESCRIPTION:Learn more about the 2020 Census and the new Federal Statistica
 l Research Data Center housed at the Carolina Population Center. Learn abo
 ut the new branch of the Triangle Research Data Center located at the Caro
 lina Population Center. The TRDC is part of the Federal Statistical Resear
 ch Data Center (FSRDC) program. Under this program\, the Census Bureau and
  other agencies allows researchers with approved proposals to perform stat
 istical analysis on non-public microdata from a variety of statistical age
 ncies to address important research questions. We'll answer questions abou
 t proposals and the process of conducting research in an RDC. You'll also 
 leave with an understanding of Census data resources and what we've learne
 d (so far) from the 2020 Census.\n\nClick here for zoom link
ATTACH;FMTTYPE=image/jpeg:https://researchweek.unc.edu/wp-content/uploads/
 2021/09/census-map-nc.jpeg
LOCATION:https://unc.zoom.us/j/91469808571?pwd=Y1BDa1IrUnpVU2hTbHc3Snd4NDYr
 Zz09
END:VEVENT
BEGIN:VTIMEZONE
TZID:America/New_York
X-LIC-LOCATION:America/New_York
BEGIN:STANDARD
DTSTART:20211107T010000
TZOFFSETFROM:-0400
TZOFFSETTO:-0500
TZNAME:EST
END:STANDARD
END:VTIMEZONE
END:VCALENDAR