BEGIN:VCALENDAR
VERSION:2.0
PRODID:-//wp-events-plugin.com//7.2.3.1//EN
TZID:America/New_York
X-WR-TIMEZONE:America/New_York
BEGIN:VEVENT
UID:88@researchweek.unc.edu
DTSTART;TZID=America/New_York:20221011T110000
DTEND;TZID=America/New_York:20221011T133000
DTSTAMP:20230719T191526Z
URL:https://researchweek.unc.edu/events/unc-core-facilities-showcase-fair-
 2022/
SUMMARY:UNC Core Facilities Showcase Fair
DESCRIPTION:UNC has a myriad of core facilities which are integral to the r
 esearch and educational achievements and success across campus. Come meet 
 many of our core directors in person to chat about how they can help furth
 er your research and listen to short talks on the groundbreaking capabilit
 ies of our core facilities! \n\nWhy UNC Chapel Hill Cores?\nUNC cores cons
 olidate technical expertise and expensive technologies in specialized labo
 ratories. Customers pay usage-level fees to access their services. From an
 imal models to biochemistry to research support to imaging facilities\, to
  clinical trials to genomics there is a core out there ready to help you. 
 Come meet them!\n\nWhat to Expect\n\n35+ participating cores!\nOpportunity
  to meet core directors and discuss specific research questions\nBrief pre
 sentations by core directors featuring new technologies and innovative res
 earch\nBiomedical vendors on site!\nComplimentary lunch onsite! Stop by th
 e registration table and then talk to at least 5 core directors to get you
 r lunch voucher!\n\n\nClick Here For More Information
ATTACH;FMTTYPE=image/jpeg:https://researchweek.unc.edu/wp-content/uploads/
 2022/09/UNCKoury_0920-low-res-1200x862-1.jpeg
LOCATION:Koury Oral Health Sciences Building\, Lobby\, 385 S Columbia St\, 
 Chapel Hill\, North Carolina\, 27599\, United States
X-APPLE-STRUCTURED-LOCATION;VALUE=URI;X-ADDRESS=385 S Columbia St\, Chapel 
 Hill\, North Carolina\, 27599\, United States;X-APPLE-RADIUS=100;X-TITLE=K
 oury Oral Health Sciences Building\, Lobby:geo:0,0
END:VEVENT
BEGIN:VTIMEZONE
TZID:America/New_York
X-LIC-LOCATION:America/New_York
BEGIN:DAYLIGHT
DTSTART:20220313T030000
TZOFFSETFROM:-0500
TZOFFSETTO:-0400
TZNAME:EDT
END:DAYLIGHT
END:VTIMEZONE
END:VCALENDAR