BEGIN:VCALENDAR
VERSION:2.0
PRODID:-//wp-events-plugin.com//7.2.3.1//EN
TZID:America/New_York
X-WR-TIMEZONE:America/New_York
BEGIN:VEVENT
UID:95@researchweek.unc.edu
DTSTART;TZID=America/New_York:20221011T160000
DTEND;TZID=America/New_York:20221011T170000
DTSTAMP:20230719T193623Z
URL:https://researchweek.unc.edu/events/three-minute-thesis-2022/
SUMMARY:Three Minute Thesis
DESCRIPTION:The Three Minute Thesis (3MT) is an academic competition that a
 ssists current graduate students with fostering effective presentation and
  communication skills. Participants have just three minutes to explain the
  breadth and significance of their research project to a non-specialist au
 dience.\n\n3MT Information Session (Virtual)\nThursday\, September 22\, 20
 22\, 12:00 p.m. - 1:00 p.m.\nRegister for Information Session\n\nPrelimina
 ry rounds information (in-person)\nTuesday\, September 27\, 2022\nLast day
  to register to participate in the preliminary rounds\n\nMonday\, October 
 3\, 2022\nPreliminary Rounds\, 1:00 - 5:00 p.m.\, Graduate Student Center\
 n\nRegister for Preliminary Round\n\nFinal 3MT competition in Bondurant Ha
 ll\, room G100\nTuesday\, October 11\, 2022\,\n4:00-5:00 p.m.\, held durin
 g University Research Week.\nFirst Place: $1000\nSecond Place: $600\nPeopl
 e’s Choice Award: $400\n\nFor more information about 3MT\, please visit 
 the \nOfficial Three Minute Thesis webpage
ATTACH;FMTTYPE=image/jpeg:https://researchweek.unc.edu/wp-content/uploads/
 2021/10/3MT_Logo2.jpeg
LOCATION:Bondurant Hall\, room G100\, 321 S Columbia St\, Chapel Hill\, Nor
 th Carolina\, 27514\, United States
X-APPLE-STRUCTURED-LOCATION;VALUE=URI;X-ADDRESS=321 S Columbia St\, Chapel 
 Hill\, North Carolina\, 27514\, United States;X-APPLE-RADIUS=100;X-TITLE=B
 ondurant Hall\, room G100:geo:0,0
END:VEVENT
BEGIN:VTIMEZONE
TZID:America/New_York
X-LIC-LOCATION:America/New_York
BEGIN:DAYLIGHT
DTSTART:20220313T030000
TZOFFSETFROM:-0500
TZOFFSETTO:-0400
TZNAME:EDT
END:DAYLIGHT
END:VTIMEZONE
END:VCALENDAR