BEGIN:VCALENDAR
VERSION:2.0
PRODID:-//wp-events-plugin.com//7.2.3.1//EN
TZID:America/New_York
X-WR-TIMEZONE:America/New_York
BEGIN:VEVENT
UID:16@researchweek.unc.edu
DTSTART;TZID=America/New_York:20211108T150000
DTEND;TZID=America/New_York:20211108T160000
DTSTAMP:20230712T195715Z
URL:https://researchweek.unc.edu/events/stress-and-our-mental-health-2021/
SUMMARY:[Recording Available] Stress and our Mental Health: Research Innova
 tion that Leads to Improved Treatment &#038\; Outcomes
DESCRIPTION:\n\nThe COVID pandemic has been a severe stress on all of us. W
 e will talk about the impact of pandemic stress on mental health\, and how
  current research at UNC is driving innovations in neuroscience that lead 
 to new treatments and better outcomes. This talk will also include take-aw
 ay pearls on how to better manage stress.\nThree different speakers will d
 iscuss stress and mental health:\nSamantha Meltzer-Brody\nMD\, MPH\, Assad
  Meymandi Distinguished Professor and Chair\, UNC Department of Psychiatry
 \, Director\, UNC Center for Women’s Mood Disorders\nDr. Meltzer-Brody w
 ill provide a high level overview of the impact of COVID on mental health 
 including anxiety and depression. She will also give an example of a novel
  new drug developed for depression (postpartum depression)\, where all pha
 ses of clinical trials were conducted at UNC.\n\nJose Rodriguez-Romaguera\
 nPhD\, Assistant Professor\, Co-Director\, Carolina Stress Initiative \nDr
 . Rodriguez-Romaguera will discuss the underlying neuroscience of stress u
 sing animal models to highlight how stress impacts the nervous system.\n\n
 Crystal Schiller\nPhD\, Assistant Professor\, Co-Director\, Perinatal Psyc
 hiatry Program\, Director\, Psychology internship Program\nDr. Schiller wi
 ll discuss how stress impacts the brain and multiple innovative treatment 
 approaches to stress that improve mental health.\n\nClick here to Register
ATTACH;FMTTYPE=image/jpeg:https://researchweek.unc.edu/wp-content/uploads/
 2021/10/box-faculty-dev-701x512-1.jpeg
LOCATION:https://www.youtube.com/embed/2pL0MjzdLv4
END:VEVENT
BEGIN:VTIMEZONE
TZID:America/New_York
X-LIC-LOCATION:America/New_York
BEGIN:STANDARD
DTSTART:20211107T010000
TZOFFSETFROM:-0400
TZOFFSETTO:-0500
TZNAME:EST
END:STANDARD
END:VTIMEZONE
END:VCALENDAR