BEGIN:VCALENDAR
VERSION:2.0
PRODID:-//wp-events-plugin.com//7.2.3.1//EN
TZID:America/New_York
X-WR-TIMEZONE:America/New_York
BEGIN:VEVENT
UID:75@researchweek.unc.edu
DTSTART;TZID=America/New_York;VALUE=DATE:20221010
DTEND;TZID=America/New_York;VALUE=DATE:20221015
DTSTAMP:20230719T182801Z
URL:https://researchweek.unc.edu/events/som-art-in-science-2022/
SUMMARY:SOM Art in Science Competition Winners
DESCRIPTION:Come see the stunning images that won this year's SOM Art in Sc
 ience Competition! Innovative scientific images that showcase the outstand
 ing biomedical research in the School and the beauty that is reflected in 
 science were solicited.\n\nThe winning images will be on display in the Bo
 ndurant Hall Ground Floor Lobby for all of UNC Research Week.
ATTACH;FMTTYPE=image/jpeg:https://researchweek.unc.edu/wp-content/uploads/
 2022/10/Photo-2-web.jpeg
LOCATION:Bondurant Hall\, 321 S Columbia Street\, Chapel Hill\, North Carol
 ina\, 27514\, United States
X-APPLE-STRUCTURED-LOCATION;VALUE=URI;X-ADDRESS=321 S Columbia Street\, Cha
 pel Hill\, North Carolina\, 27514\, United States;X-APPLE-RADIUS=100;X-TIT
 LE=Bondurant Hall:geo:0,0
END:VEVENT
BEGIN:VTIMEZONE
TZID:America/New_York
X-LIC-LOCATION:America/New_York
BEGIN:DAYLIGHT
DTSTART:20220313T030000
TZOFFSETFROM:-0500
TZOFFSETTO:-0400
TZNAME:EDT
END:DAYLIGHT
END:VTIMEZONE
END:VCALENDAR