BEGIN:VCALENDAR
VERSION:2.0
PRODID:-//wp-events-plugin.com//7.2.3.1//EN
TZID:America/New_York
X-WR-TIMEZONE:America/New_York
BEGIN:VEVENT
UID:130@researchweek.unc.edu
DTSTART;TZID=America/New_York:20221013T160000
DTEND;TZID=America/New_York:20221013T170000
DTSTAMP:20230721T173926Z
URL:https://researchweek.unc.edu/events/school-data-science-society-2022/
SUMMARY:An Introduction to the new UNC School of Data Science and Society\;
  led by Inaugural Dean Stan Ahalt
DESCRIPTION:In Summer 2022\, UNC-Chapel Hill launched the School of Data Sc
 ience and Society (SDSS)\, a new school devoted to data science\, teaching
 \, research\, scholarship\, service\, and creativity. The vision for SDSS 
 is to be a leader in the field of data science through an interdisciplinar
 y and rigorous grounding in theory and methods with a human‐centric appr
 oach to the entire data life cycle. \n\nPlease join us for a presentation 
 by Inaugural Dean Stan Ahalt\, followed by a question and answer session w
 ith the school's leadership. During this time\, you will learn about Dean 
 Ahalt's vision for the future of data science at Carolina and the implemen
 tation of the school. \n\nClick Here to Register for this Event\n\nClick H
 ere to Learn More About SDSS
ATTACH;FMTTYPE=image/jpeg:https://researchweek.unc.edu/wp-content/uploads/
 2022/09/sdss-event-01.jpg
LOCATION:https://go.unc.edu/SDSSresearchweek
END:VEVENT
BEGIN:VTIMEZONE
TZID:America/New_York
X-LIC-LOCATION:America/New_York
BEGIN:DAYLIGHT
DTSTART:20220313T030000
TZOFFSETFROM:-0500
TZOFFSETTO:-0400
TZNAME:EDT
END:DAYLIGHT
END:VTIMEZONE
END:VCALENDAR