BEGIN:VCALENDAR
VERSION:2.0
PRODID:-//wp-events-plugin.com//7.2.3.1//EN
TZID:America/New_York
X-WR-TIMEZONE:America/New_York
BEGIN:VEVENT
UID:18@researchweek.unc.edu
DTSTART;TZID=America/New_York:20211108T170000
DTEND;TZID=America/New_York:20211108T180000
DTSTAMP:20230712T200539Z
URL:https://researchweek.unc.edu/events/research-and-study-abroad-2021/
SUMMARY:[Recording Available] Research and Study Abroad
DESCRIPTION:\n\nMore undergraduates are finding creative ways to combine st
 udy abroad and research. Join us to learn more about study abroad programs
  that include credit-bearing research opportunities. Representatives from 
 the Office of Undergraduate Research and the Study Abroad Office will lead
  the session\, and an undergraduate panel will describe their experiences 
 doing research abroad.
ATTACH;FMTTYPE=image/jpeg:https://researchweek.unc.edu/wp-content/uploads/
 2021/10/8U7A2992-scaled.jpg
LOCATION:https://www.youtube.com/embed/tpj0KPEY9Hc
END:VEVENT
BEGIN:VTIMEZONE
TZID:America/New_York
X-LIC-LOCATION:America/New_York
BEGIN:STANDARD
DTSTART:20211107T010000
TZOFFSETFROM:-0400
TZOFFSETTO:-0500
TZNAME:EST
END:STANDARD
END:VTIMEZONE
END:VCALENDAR