BEGIN:VCALENDAR
VERSION:2.0
PRODID:-//wp-events-plugin.com//7.2.3.1//EN
TZID:America/New_York
X-WR-TIMEZONE:America/New_York
BEGIN:VEVENT
UID:91@researchweek.unc.edu
DTSTART;TZID=America/New_York:20221011T130000
DTEND;TZID=America/New_York:20221011T140000
DTSTAMP:20230719T192530Z
URL:https://researchweek.unc.edu/events/python-basics-2022/
SUMMARY:Python Crash Courses: Basics
DESCRIPTION:The Python Crash Courses workshop series has two components: Ba
 sics (covered in the first two sessions) and Intro to Data (covered in the
  following three sessions). The entire series uses the Anaconda distributi
 on of Python. Those interested in attending all five Python Crash Courses 
 should register for both Basics and Intro to Data.  \n\nThe Python Crash C
 ourses: Basics introduces basic concepts in the Python programming languag
 e such as object types\, base Python data structures\, file paths\, and fl
 ow control (if statements & for-loops) using the Anaconda distribution of 
 Python. We'll work through some applied examples. \n\nBasics is appropriat
 e for absolute beginners or those interested in a review. After attending 
 Basics\, beginners can continue with Intro to Data\, which introduces fund
 amental tools for working with tabular data in Python such as Jupyter Note
 books\, markdown\, Pandas\, and data visualization packages.  \n\nThose wi
 th a good understanding of Python fundamentals may want to skip the Basics
  and take only Intro to Data.\n\nThis workshop is offered by University Li
 braries and will be led by librarians Phil McDaniel\, Lorin Bruckner\, Mic
 hele Hayslett\, and Matt Jansen\, along with Mark Reed from ITS Research C
 omputing. \n\nRegistration required:\nClick Here to Register for this Even
 t\n
ATTACH;FMTTYPE=image/jpeg:https://researchweek.unc.edu/wp-content/uploads/
 2022/09/python-logo.jpg
LOCATION:Davis Library Research Hub\, 208 Raleigh Street\, Chapel Hill\, No
 rth Carolina\, 27514\, United States
X-APPLE-STRUCTURED-LOCATION;VALUE=URI;X-ADDRESS=208 Raleigh Street\, Chapel
  Hill\, North Carolina\, 27514\, United States;X-APPLE-RADIUS=100;X-TITLE=
 Davis Library Research Hub:geo:0,0
END:VEVENT
BEGIN:VTIMEZONE
TZID:America/New_York
X-LIC-LOCATION:America/New_York
BEGIN:DAYLIGHT
DTSTART:20220313T030000
TZOFFSETFROM:-0500
TZOFFSETTO:-0400
TZNAME:EDT
END:DAYLIGHT
END:VTIMEZONE
END:VCALENDAR