BEGIN:VCALENDAR
VERSION:2.0
PRODID:-//wp-events-plugin.com//7.2.3.1//EN
TZID:America/New_York
X-WR-TIMEZONE:America/New_York
BEGIN:VEVENT
UID:9@researchweek.unc.edu
DTSTART;TZID=America/New_York:20211108T103000
DTEND;TZID=America/New_York:20211108T113000
DTSTAMP:20230712T193316Z
URL:https://researchweek.unc.edu/events/psychology-neuroscience-undergradu
 ate-research-in-person-office-hours/
SUMMARY:Psychology &#038\; Neuroscience Undergraduate Research In-Person Of
 fice Hours
DESCRIPTION:Interested in getting involved in Psych and/or Neuro research\,
  but have some questions? Stop by and ask your questions and chat about re
 search with Dr. Vicki Chanon\, Director of Undergrad Psychology Research.
ATTACH;FMTTYPE=image/jpeg:https://researchweek.unc.edu/wp-content/uploads/
 2021/10/i.jpeg
LOCATION:Davie Hall\, room 206\, 235 E. Cameron Ave.\, Chapel Hill\, North 
 Carolina\, 27514\, United States
X-APPLE-STRUCTURED-LOCATION;VALUE=URI;X-ADDRESS=235 E. Cameron Ave.\, Chape
 l Hill\, North Carolina\, 27514\, United States;X-APPLE-RADIUS=100;X-TITLE
 =Davie Hall\, room 206:geo:0,0
END:VEVENT
BEGIN:VTIMEZONE
TZID:America/New_York
X-LIC-LOCATION:America/New_York
BEGIN:STANDARD
DTSTART:20211107T010000
TZOFFSETFROM:-0400
TZOFFSETTO:-0500
TZNAME:EST
END:STANDARD
END:VTIMEZONE
END:VCALENDAR