BEGIN:VCALENDAR
VERSION:2.0
PRODID:-//wp-events-plugin.com//7.2.3.1//EN
TZID:America/New_York
X-WR-TIMEZONE:America/New_York
BEGIN:VEVENT
UID:221@researchweek.unc.edu
DTSTART;TZID=America/New_York:20241024T150000
DTEND;TZID=America/New_York:20241024T163000
DTSTAMP:20240919T141536Z
URL:https://researchweek.unc.edu/events/pare-talks-2024/
SUMMARY:Postdoctoral Awards for Research Excellence Talks
DESCRIPTION:Each year\, the Postdoctoral Awards for Research Excellence (PA
 RE) are given in recognition of the research promise demonstrated by indiv
 idual postdoctoral scholars from across campus. The five winners of the 20
 24 PARE awards will each present their research and receive plaques for th
 eir accomplishments. \n\nAll faculty\, postdoctoral scholars\, and graduat
 e students are welcome to attend the ceremony\, which will be followed by 
 a light networking reception.\n\nThis is an in-person event. Award recipie
 nts to be announced soon.\n\n
ATTACH;FMTTYPE=image/jpeg:https://researchweek.unc.edu/wp-content/uploads/
 2024/08/000123_campus_scenes046.jpg
CATEGORIES:In-person Event,Office of Postdoctoral Affairs
LOCATION:Wilson Library\, the Pleasants Family Assembly Room\, 201 South Ro
 ad\, Chapel Hill\, North Carolina\, 27515\, United States
X-APPLE-STRUCTURED-LOCATION;VALUE=URI;X-ADDRESS=201 South Road\, Chapel Hil
 l\, North Carolina\, 27515\, United States;X-APPLE-RADIUS=100;X-TITLE=Wils
 on Library\, the Pleasants Family Assembly Room:geo:0,0
END:VEVENT
BEGIN:VTIMEZONE
TZID:America/New_York
X-LIC-LOCATION:America/New_York
BEGIN:DAYLIGHT
DTSTART:20240310T030000
TZOFFSETFROM:-0500
TZOFFSETTO:-0400
TZNAME:EDT
END:DAYLIGHT
END:VTIMEZONE
END:VCALENDAR