BEGIN:VCALENDAR
VERSION:2.0
PRODID:-//wp-events-plugin.com//7.2.3.1//EN
TZID:America/New_York
X-WR-TIMEZONE:America/New_York
BEGIN:VEVENT
UID:127@researchweek.unc.edu
DTSTART;TZID=America/New_York:20221013T150000
DTEND;TZID=America/New_York:20221013T160000
DTSTAMP:20230721T173213Z
URL:https://researchweek.unc.edu/events/on-these-grounds-2022/
SUMMARY:On These Grounds: Slavery and the University
DESCRIPTION:This event is part of the Digital South Panel Series.\n\nChaitr
 a Powell\, Curator of the Southern Historical Collection at UNC-Chapel Hil
 l \nCaroline Emmons\, Elliott Professor of History at Hampden-Sydney Colle
 ge \nSarah Almond\, Archival & Digital Projects Librarian at Hampden-Sydne
 y College \n\nOn These Grounds: Slavery and the University is a national p
 roject that spans multiple colleges and universities.  The project aims to
  create a “new understanding of the lived reality of bondage at these in
 stitutions of higher education” by creating a common approach to documen
 ting\, describing\, and organizing data derived from the schools’ archiv
 es. Panelists will discuss On These Grounds work at UNC-Chapel Hill and Ha
 mpden-Sydney College. \n\nClick Here to Register for this Event
ATTACH;FMTTYPE=image/jpeg:https://researchweek.unc.edu/wp-content/uploads/
 2022/09/on-these-grounds-logo_small3.png
END:VEVENT
BEGIN:VTIMEZONE
TZID:America/New_York
X-LIC-LOCATION:America/New_York
BEGIN:DAYLIGHT
DTSTART:20220313T030000
TZOFFSETFROM:-0500
TZOFFSETTO:-0400
TZNAME:EDT
END:DAYLIGHT
END:VTIMEZONE
END:VCALENDAR