BEGIN:VCALENDAR
VERSION:2.0
PRODID:-//wp-events-plugin.com//7.2.3.1//EN
TZID:America/New_York
X-WR-TIMEZONE:America/New_York
BEGIN:VEVENT
UID:93@researchweek.unc.edu
DTSTART;TZID=America/New_York:20221011T150000
DTEND;TZID=America/New_York:20221011T160000
DTSTAMP:20230719T193109Z
URL:https://researchweek.unc.edu/events/nih-data-management-sharing-policy
 /
SUMMARY:New NIH Data Management and Sharing Policy Requirements
DESCRIPTION:This session will cover the scope and requirements of NIH's new
  Data Management and Sharing (DMS) Policy that goes into effect January 25
 \, 2023. Supplementary NIH guidance on the DMS plans required in proposals
 \, data repository selection\, and allowable costs in proposal budgets wil
 l also be reviewed.\n\nSelected resources and tools to help researchers na
 vigate the new requirements will be covered\, including hands-on tour of s
 elected UNC resources as time allows.\n\nClick Here to Register for this E
 vent
ATTACH;FMTTYPE=image/jpeg:https://researchweek.unc.edu/wp-content/uploads/
 2022/09/wilsonreading3.jpeg
LOCATION:https://calendar.lib.unc.edu/event/9450830
END:VEVENT
BEGIN:VTIMEZONE
TZID:America/New_York
X-LIC-LOCATION:America/New_York
BEGIN:DAYLIGHT
DTSTART:20220313T030000
TZOFFSETFROM:-0500
TZOFFSETTO:-0400
TZNAME:EDT
END:DAYLIGHT
END:VTIMEZONE
END:VCALENDAR