BEGIN:VCALENDAR
VERSION:2.0
PRODID:-//wp-events-plugin.com//7.2.3.1//EN
TZID:America/New_York
X-WR-TIMEZONE:America/New_York
BEGIN:VEVENT
UID:134@researchweek.unc.edu
DTSTART;TZID=America/New_York:20221013T180000
DTEND;TZID=America/New_York:20221013T190000
DTSTAMP:20230721T175252Z
URL:https://researchweek.unc.edu/events/navigating-research-experiences-un
 dergrads-2022/
SUMMARY:[Hybrid Event] Navigating Research Experiences for Undergrads (REUs
 ): Why\, Where\, and How?
DESCRIPTION:Interested in research as an undergrad? Looking for ways to get
  involved in research or expand your research experiences?  UNC AIMS is ho
 sting a session to help you navigate REUs: summer research programs across
  the US aimed at getting undergraduate students studying science\, enginee
 ring\, and mathematics involved in interesting and impactful research expe
 riences. Learn why they’re beneficial\, where you can find them\, and ho
 w to start applying. Also hear from current UNC MD/PhD students as they sh
 are their own experiences with REUs and field your questions. \n\nUNC Advo
 cates for Inclusion in Medicine and Science (AIMS) is an MD/PhD-led group 
 at UNC founded for the purpose of promoting the success\, recognition\, an
 d excellence of women and minorities in academic medicine and medical rese
 arch. https://www.med.unc.edu/uncaims/\n\nClick Here for More Information 
 on REUs\n\nClick Here for this Event's Zoom Link
ATTACH;FMTTYPE=image/jpeg:https://researchweek.unc.edu/wp-content/uploads/
 2020/09/research-workshop-01.jpg
LOCATION:Chapman Hall\, room 201\, 205 S Columbia St\, Chapel Hill\, North 
 Carolina\, 27514\, United States
X-APPLE-STRUCTURED-LOCATION;VALUE=URI;X-ADDRESS=205 S Columbia St\, Chapel 
 Hill\, North Carolina\, 27514\, United States;X-APPLE-RADIUS=100;X-TITLE=C
 hapman Hall\, room 201:geo:0,0
END:VEVENT
BEGIN:VTIMEZONE
TZID:America/New_York
X-LIC-LOCATION:America/New_York
BEGIN:DAYLIGHT
DTSTART:20220313T030000
TZOFFSETFROM:-0500
TZOFFSETTO:-0400
TZNAME:EDT
END:DAYLIGHT
END:VTIMEZONE
END:VCALENDAR