BEGIN:VCALENDAR
VERSION:2.0
PRODID:-//wp-events-plugin.com//7.2.3.1//EN
TZID:America/New_York
X-WR-TIMEZONE:America/New_York
BEGIN:VEVENT
UID:21@researchweek.unc.edu
DTSTART;TZID=America/New_York:20211109T110000
DTEND;TZID=America/New_York:20211109T123000
DTSTAMP:20230713T121340Z
URL:https://researchweek.unc.edu/events/n3c-data-enclave-a-2021/
SUMMARY:N3C: Orientation to the N3C Data Enclave &#8211\; Session A
DESCRIPTION:Join a live training session for the N3C Data Enclave. Users of
  all types can learn how to navigate the N3C\, utilize the Enclave and res
 ources it provides\, and learn how to better achieve their analytical goal
 s. This orientation is split into 2 sessions – Session A and Session B. 
 These orientations are ongoing and will alternate week by week. Session A 
 is recommended before attending Session B\n\nSession A is for those who wa
 nt to learn about N3C\, as well as how to engage with project teams and ac
 cess the data.\n\nTopics include:\n\nProvide a general overview of N3C\, i
 ncluding goals\, organization\, and community resources such as Domain Tea
 ms and Data Liaisons.\nIntroduces the 3 data tiers available and important
  considerations for research driven by the data harmonization process.\nDi
 scusses resources for training and help\, as well as the Data Use Request 
 (DUR) process required for researcher access.\n\nClick here to register\n\
 nNote: This orientation is held alternating Tuesdays | 8-9:30am PT/11am-12
 :30pm ET
ATTACH;FMTTYPE=image/jpeg:https://researchweek.unc.edu/wp-content/uploads/
 2021/10/Screen-Shot-2021-10-25-at-3.15.46-PM.png
LOCATION:https://uw-phi.zoom.us/w/98664575161?tk=rbpmK_S80JY-d7GgTeLYERBC6k
 5cYE-5sag5k1XBIzk.DQMAAAAW-N3wuRZGUWhkRm5ib1JLMm5uZmFNVWJPNUxBAAAAAAAAAAAA
 AAAAAAAAAAAAAAAAAA&pwd=UDdOWEpuNzMvOW5uSGY0K3pnOENEdz09
END:VEVENT
BEGIN:VTIMEZONE
TZID:America/New_York
X-LIC-LOCATION:America/New_York
BEGIN:STANDARD
DTSTART:20211107T010000
TZOFFSETFROM:-0400
TZOFFSETTO:-0500
TZNAME:EST
END:STANDARD
END:VTIMEZONE
END:VCALENDAR