BEGIN:VCALENDAR
VERSION:2.0
PRODID:-//wp-events-plugin.com//7.2.3.1//EN
TZID:America/New_York
X-WR-TIMEZONE:America/New_York
BEGIN:VEVENT
UID:79@researchweek.unc.edu
DTSTART;TZID=America/New_York:20221010T130000
DTEND;TZID=America/New_York:20221010T150000
DTSTAMP:20230719T184320Z
URL:https://researchweek.unc.edu/events/morehead-planetarium-open-house-20
 22/
SUMMARY:Morehead Planetarium and Science Center Broader Impacts Open House
DESCRIPTION:Morehead Planetarium and Science Center partners with UNC facul
 ty members and researchers applying for grants to develop broader impacts 
 projects that make the outcomes of their research available and accessible
  to a wide range of audiences. As granting agencies increasingly demand br
 oad impact and the university encourages public engagement\, Morehead is a
  convenient\, high-quality partner for science outreach. With researchers 
 providing current science and Morehead providing content and curriculum de
 velopment and delivery expertise\, the result can be highly engaging and e
 ffective.\n\nWe invite potential science outreach partners to visit Morehe
 ad on October 10 to meet Morehead team members\, hear from past and presen
 t broader impacts partners about their experience working with Morehead\, 
 and tour our newly renovated\, interactive exhibit spaces including the Br
 eakthrough Hub gallery featuring UNC research and the Launch Lab\, our new
  tinker space.\n\nClick Here to Register for this Event
ATTACH;FMTTYPE=image/jpeg:https://researchweek.unc.edu/wp-content/uploads/
 2022/09/AKR17671-Edit.jpg
LOCATION:Morehead Planetarium and Science Center\, 250 E Franklin St\, Chap
 el Hill\, North Carolina\, 27514\, United States
X-APPLE-STRUCTURED-LOCATION;VALUE=URI;X-ADDRESS=250 E Franklin St\, Chapel 
 Hill\, North Carolina\, 27514\, United States;X-APPLE-RADIUS=100;X-TITLE=M
 orehead Planetarium and Science Center:geo:0,0
END:VEVENT
BEGIN:VTIMEZONE
TZID:America/New_York
X-LIC-LOCATION:America/New_York
BEGIN:DAYLIGHT
DTSTART:20220313T030000
TZOFFSETFROM:-0500
TZOFFSETTO:-0400
TZNAME:EDT
END:DAYLIGHT
END:VTIMEZONE
END:VCALENDAR