BEGIN:VCALENDAR
VERSION:2.0
PRODID:-//wp-events-plugin.com//7.2.3.1//EN
TZID:America/New_York
X-WR-TIMEZONE:America/New_York
BEGIN:VEVENT
UID:10@researchweek.unc.edu
DTSTART;TZID=America/New_York:20211108T120000
DTEND;TZID=America/New_York:20211108T130000
DTSTAMP:20230712T193559Z
URL:https://researchweek.unc.edu/events/map-the-system-2021/
SUMMARY:[Recording Available] Map the System…
DESCRIPTION:\nMap the System Information Session 11/08/2021 from Kaki McNee
 l on Vimeo.\n\nAre you ready to change the world? Tackling global challeng
 es starts with understanding a problem and its wider context. Join the com
 petition that asks you to explore\, probe and research the issues that mat
 ter to you\, and share your findings with the world. Learn more about what
  systems mapping is\, why it's a critical tool for understanding the compl
 exities of social change\, and how you can represent UNC in London at the 
 Map the System Global Competition in Spring 2022.
ATTACH;FMTTYPE=image/jpeg:https://researchweek.unc.edu/wp-content/uploads/
 2021/09/Screen-Shot-2021-09-29-at-10.44.10-AM.png
LOCATION:https://player.vimeo.com/video/644222384?h=b80c88a1c2
END:VEVENT
BEGIN:VTIMEZONE
TZID:America/New_York
X-LIC-LOCATION:America/New_York
BEGIN:STANDARD
DTSTART:20211107T010000
TZOFFSETFROM:-0400
TZOFFSETTO:-0500
TZNAME:EST
END:STANDARD
END:VTIMEZONE
END:VCALENDAR