BEGIN:VCALENDAR
VERSION:2.0
PRODID:-//wp-events-plugin.com//7.2.3.1//EN
TZID:America/New_York
X-WR-TIMEZONE:America/New_York
BEGIN:VEVENT
UID:123@researchweek.unc.edu
DTSTART;TZID=America/New_York:20221013T120000
DTEND;TZID=America/New_York:20221013T130000
DTSTAMP:20230721T171857Z
URL:https://researchweek.unc.edu/events/lunchbox-talk-2022/
SUMMARY:[Hybrid Event] Lunchbox Talk: Botanical Birthrights &#038\; Bitter 
 Roots: African American Herbal Medicine in the American South
DESCRIPTION:With Sierra Roark\, Doctoral Candidate\, UNC Department of Anth
 ropology\n\nDate: Thursday\, October 13\, 2022\nTime: 12:00 PM-1:00 PM EST
 \nLocation: Hybrid – Reeves Auditorium and Zoom webinar\nFee: Free\, $5 
 suggested fee\n\nAs enslaved Africans were brought to North America\, they
  transported environmental and medicinal knowledge alongside familiar plan
 ts. As African people\, beliefs\, and practices encountered Indigenous and
  European people and plants\, a distinct variety of ethnomedicine emerged 
 and allowed African Americans to both covertly and directly confront oppre
 ssion. This talk will explore the basics of archaeobotany and will present
  a case study that illustrates how multidisciplinary lines of evidence can
  highlight historical instances of human resilience and resistance.\n\nCli
 ck Here to Register for this Event\n\nAbout the Speaker:\nSierra Roark is 
 a doctoral candidate in the Department of Anthropology at UNC-Chapel Hill\
 , specializing in historical archaeology and archaeobotany. Sierra’s wor
 k investigates the exchange of ecological knowledge and plant use in the A
 merican South and Mid-Atlantic. Her research explores human-environment re
 lationships\, well-being\, and manifestations of identity and power using 
 archaeological plant remains\, material culture\, ethnohistory\, and other
  lines of evidence.
ATTACH;FMTTYPE=image/jpeg:https://researchweek.unc.edu/wp-content/uploads/
 2022/10/African-American-slavery-3.jpeg
LOCATION:North Carolina Botanical Garden\, 100 Old Mason Farm Road\, Chapel
  Hill\, North Carolina\, 27517\, United States
X-APPLE-STRUCTURED-LOCATION;VALUE=URI;X-ADDRESS=100 Old Mason Farm Road\, C
 hapel Hill\, North Carolina\, 27517\, United States;X-APPLE-RADIUS=100;X-T
 ITLE=North Carolina Botanical Garden:geo:0,0
END:VEVENT
BEGIN:VTIMEZONE
TZID:America/New_York
X-LIC-LOCATION:America/New_York
BEGIN:DAYLIGHT
DTSTART:20220313T030000
TZOFFSETFROM:-0500
TZOFFSETTO:-0400
TZNAME:EDT
END:DAYLIGHT
END:VTIMEZONE
END:VCALENDAR