BEGIN:VCALENDAR
VERSION:2.0
PRODID:-//wp-events-plugin.com//7.2.3.1//EN
TZID:America/New_York
X-WR-TIMEZONE:America/New_York
BEGIN:VEVENT
UID:115@researchweek.unc.edu
DTSTART;TZID=America/New_York:20221012T183000
DTEND;TZID=America/New_York:20221012T200000
DTSTAMP:20230721T164733Z
URL:https://researchweek.unc.edu/events/lets-talk-school-transition-2022/
SUMMARY:Let&#8217\;s Talk School Transition! &#8211\; A Panel Discussion
DESCRIPTION:2022 CAROLINA INSTITUTE FOR DEVELOPMENTAL DISABILITIES “VIRTU
 AL” COMMUNITY TALK SERIES PRESENTS: Let’s Talk Transition! – A PANEL
  DISCUSSION – with a panel of Self-Advocates\, Parents\, & Professionals
 \n\nJoin CIDD for a candid panel discussion on the “Transition From Scho
 ol Experience” for people with IDD\, with Students\, Families\, Educator
 s and Professionals.\n\nLearning Objectives:\n1. Awareness of the next ste
 ps in Transition after high school or college\n2. Understand some of the t
 ypical challenges one might face during Transition\n3. Learn what opportun
 ities for people with IDD are out there after graduation\n\nClick Here to 
 Learn More and Register.\n\nContact Anna Gabriel Ward with questions.
ATTACH;FMTTYPE=image/jpeg:https://researchweek.unc.edu/wp-content/uploads/
 2022/09/017218_orientation016.jpg
LOCATION:https://apps2.research.unc.edu/events/index.cfm?event=events.go&ke
 y=B461
END:VEVENT
BEGIN:VTIMEZONE
TZID:America/New_York
X-LIC-LOCATION:America/New_York
BEGIN:DAYLIGHT
DTSTART:20220313T030000
TZOFFSETFROM:-0500
TZOFFSETTO:-0400
TZNAME:EDT
END:DAYLIGHT
END:VTIMEZONE
END:VCALENDAR