BEGIN:VCALENDAR
VERSION:2.0
PRODID:-//wp-events-plugin.com//7.2.3.1//EN
TZID:America/New_York
X-WR-TIMEZONE:America/New_York
BEGIN:VEVENT
UID:11@researchweek.unc.edu
DTSTART;TZID=America/New_York:20211108T120000
DTEND;TZID=America/New_York:20211108T130000
DTSTAMP:20230712T193916Z
URL:https://researchweek.unc.edu/events/law-school-book-event-2021/
SUMMARY:Law School Book Event
DESCRIPTION:At this event\, we will honor Professor Carissa Hessick in her 
 publication of her new book\, Punishment Without Trial. We will also discu
 ss the hows and whys of publishing an academic book with a representative 
 from Carolina Academic Press. 
ATTACH;FMTTYPE=image/jpeg:https://researchweek.unc.edu/wp-content/uploads/
 2021/09/unc-law.jpeg
LOCATION:Kathrine R. Everett Law Library\, 160 Ridge Road\, Chapel Hill\, N
 orth Carolina\, 27599\, United States
X-APPLE-STRUCTURED-LOCATION;VALUE=URI;X-ADDRESS=160 Ridge Road\, Chapel Hil
 l\, North Carolina\, 27599\, United States;X-APPLE-RADIUS=100;X-TITLE=Kath
 rine R. Everett Law Library:geo:0,0
END:VEVENT
BEGIN:VTIMEZONE
TZID:America/New_York
X-LIC-LOCATION:America/New_York
BEGIN:STANDARD
DTSTART:20211107T010000
TZOFFSETFROM:-0400
TZOFFSETTO:-0500
TZNAME:EST
END:STANDARD
END:VTIMEZONE
END:VCALENDAR