BEGIN:VCALENDAR
VERSION:2.0
PRODID:-//wp-events-plugin.com//7.2.3.1//EN
TZID:America/New_York
X-WR-TIMEZONE:America/New_York
BEGIN:VEVENT
UID:124@researchweek.unc.edu
DTSTART;TZID=America/New_York:20221013T123000
DTEND;TZID=America/New_York:20221013T140000
DTSTAMP:20230721T172343Z
URL:https://researchweek.unc.edu/events/language-summit-2022-day-2/
SUMMARY:[Hybrid Event] Language Summit 2022: Day 2
DESCRIPTION:UNC FPG and SSW invite you to attend Language Summit 2022\n\nFP
 G and the UNC School of Social Work are co-sponsoring Language Summit 2022
 . As you may remember\, last year\, FPG held a similar internal event. Thi
 s year\, we are partnering with UNC SSW and welcome a broader UNC audience
 .\n\nThe summit will take place across four days—while attendees are enc
 ouraged to attend multiple sessions\, you do not have to attend all to ben
 efit from the presentations/discussions.\n\nTogether\, we will think throu
 gh the importance of intentional language use and how language can be harm
 ful\, understand how language is always changing and changes are typically
  seen in spoken language before written language\, and develop more inclus
 ive language practices across daily communications in our work and in our 
 communities.\n\nLanguage Summit events will take place October 11\, 13\, 1
 8\, & 20.\n\nClick Here for More Information About the Language Summit\n\n
 Day 2 Information:\nIn this panel\, we will discuss the connections betwee
 n language and legislation and how language can be used intentionally to d
 isrupt injustice and promote inclusive\, democratic learning environments 
 where all students can thrive. Panelists include: Xigrid Soto-Boynton\, as
 sistant research professor\, Center for Child and Family Success\, senior 
 scientist for bilingual learning\, T. Denny Sanford School of Social and F
 amily Dynamics\, Arizona State University\; JP Przewoznik\, clinical assis
 tant professor\, UNC School of Social Work\; and North Carolina State Repr
 esentative Ashton Clemmons\, NC General Assembly.\n\nClick Here to Registe
 r for this Event
ATTACH;FMTTYPE=image/jpeg:https://researchweek.unc.edu/wp-content/uploads/
 2022/10/50617898496_af48e976ab_k.jpg
LOCATION:Tate-Turner-Kuralt Auditorium\, 325 Pittsboro St\, Chapel Hill\, N
 orth Carolina\, 27516\, United States
X-APPLE-STRUCTURED-LOCATION;VALUE=URI;X-ADDRESS=325 Pittsboro St\, Chapel H
 ill\, North Carolina\, 27516\, United States;X-APPLE-RADIUS=100;X-TITLE=Ta
 te-Turner-Kuralt Auditorium:geo:0,0
END:VEVENT
BEGIN:VTIMEZONE
TZID:America/New_York
X-LIC-LOCATION:America/New_York
BEGIN:DAYLIGHT
DTSTART:20220313T030000
TZOFFSETFROM:-0500
TZOFFSETTO:-0400
TZNAME:EDT
END:DAYLIGHT
END:VTIMEZONE
END:VCALENDAR