BEGIN:VCALENDAR
VERSION:2.0
PRODID:-//wp-events-plugin.com//7.2.3.1//EN
TZID:America/New_York
X-WR-TIMEZONE:America/New_York
BEGIN:VEVENT
UID:233@researchweek.unc.edu
DTSTART;TZID=America/New_York:20241023T090000
DTEND;TZID=America/New_York:20241023T100000
DTSTAMP:20240821T143630Z
URL:https://researchweek.unc.edu/events/kickstart-your-redcap-journey-buil
 ding-effective-surveys-for-research/
SUMMARY:Kickstart Your REDCap Journey: Building Effective Surveys for Resea
 rch
DESCRIPTION:Research week session for tips to setting up REDCap surveys for
  research data collection.\n\nREDCap is a secure web application for build
 ing and managing online surveys and databases. While REDCap can be used to
  collect virtually any type of data in any environment (including complian
 ce with 21 CFR Part 11\, FISMA\, HIPAA\, and GDPR)\, it is specifically ge
 ared to support online and offline data capture for research studies and o
 perations. The REDCap Consortium\, a vast support network of collaborators
 \, is composed of thousands of active institutional partners in over one h
 undred countries who utilize and support their own individual REDCap syste
 ms.\n\nThis is an in-person and online event.\n\nClick Here for the Zoom L
 ink
ATTACH;FMTTYPE=image/jpeg:https://researchweek.unc.edu/wp-content/uploads/
 2024/08/REDCap-logo.jpg
CATEGORIES:Data Management Analysis Core,Frank Porter Graham Child
 Development Institute,Hybrid Event
LOCATION:Spangler Building\, Rm 216\, 910 Raleigh Rd\, Chapel Hill\, North 
 Carolina\, 27514\, United States
X-APPLE-STRUCTURED-LOCATION;VALUE=URI;X-ADDRESS=910 Raleigh Rd\, Chapel Hil
 l\, North Carolina\, 27514\, United States;X-APPLE-RADIUS=100;X-TITLE=Span
 gler Building\, Rm 216:geo:0,0
END:VEVENT
BEGIN:VTIMEZONE
TZID:America/New_York
X-LIC-LOCATION:America/New_York
BEGIN:DAYLIGHT
DTSTART:20240310T030000
TZOFFSETFROM:-0500
TZOFFSETTO:-0400
TZNAME:EDT
END:DAYLIGHT
END:VTIMEZONE
END:VCALENDAR