BEGIN:VCALENDAR
VERSION:2.0
PRODID:-//wp-events-plugin.com//7.2.3.1//EN
TZID:America/New_York
X-WR-TIMEZONE:America/New_York
BEGIN:VEVENT
UID:89@researchweek.unc.edu
DTSTART;TZID=America/New_York:20221011T120000
DTEND;TZID=America/New_York:20221011T130000
DTSTAMP:20230719T191836Z
URL:https://researchweek.unc.edu/events/jefferson-pilot-fellowships-james-
 w-woods-junior-faculty-award-seminar-2022/
SUMMARY:Jefferson-Pilot Fellowships in Academic Medicine and James W. Woods
  Junior Faculty Award Seminar
DESCRIPTION:The Jefferson-Pilot Fellowships in Academic Medicine are given 
 to promising junior faculty in the School of Medicine\, and the James W. W
 oods Junior Faculty Award is given specifically to a junior member of the 
 School’s clinical faculty. Recipients of both awards are given public re
 cognition of his or her achievements and the School’s full confidence in
  his or her future.\n\nPlease join us from 12pm-1pm on Tuesday\, October 1
 1\, 2022  for a zoom seminar celebrating the 2022-2023 recipients of these
  prestigious awards!\n\nEach recipient will give a 15 minute talk about th
 eir research programs and projects to be supported by their awards.\nThe J
 efferson-Pilot Fellowship recipients are Ross Boyce\, MD\, MSc\, and Hyeju
 ng Won\, PhD. The James Woods recipient is Colin Orr\, MD\, MPH.\n\nClick 
 Here for the Event's Zoom Link\n\n\n\nJefferson-Pilot Fellowship Recipient
 s:\n Ross M. Boyce MD\, MSc\nAssistant Professor of Medicine\nAssistant Pr
 ofessor of Epidemiology\nFaculty Fellow\, Carolina Population Center\n\n\n
 \nHyejung Won\, PhD\nAssistant Professor of Genetics\n\n\n\nJames W. Woods
  Recipient:\nColin Orr\, MD\nAssistant Professor in Pediatrics
ATTACH;FMTTYPE=image/jpeg:https://researchweek.unc.edu/wp-content/uploads/
 2022/10/AKR14510-scaled.jpg
LOCATION:https://zoom.us/j/91736779702?pwd=QktUOGdERXBINWZGbUtKeHc3Q2FvQT09
END:VEVENT
BEGIN:VTIMEZONE
TZID:America/New_York
X-LIC-LOCATION:America/New_York
BEGIN:DAYLIGHT
DTSTART:20220313T030000
TZOFFSETFROM:-0500
TZOFFSETTO:-0400
TZNAME:EDT
END:DAYLIGHT
END:VTIMEZONE
END:VCALENDAR