BEGIN:VCALENDAR
VERSION:2.0
PRODID:-//wp-events-plugin.com//7.2.3.1//EN
TZID:America/New_York
X-WR-TIMEZONE:America/New_York
BEGIN:VEVENT
UID:119@researchweek.unc.edu
DTSTART;TZID=America/New_York:20221013T110000
DTEND;TZID=America/New_York:20221013T120000
DTSTAMP:20230721T170508Z
URL:https://researchweek.unc.edu/events/inclusive-transformative-research-
 2022/
SUMMARY:Building an Inclusive and Transformative Data Strategy in Research 
 and Community Engagement
DESCRIPTION:The COVID pandemic and racial justice protests across the count
 ry have sparked new conversations regarding race\, racism\, and social jus
 tice in nearly every aspect of American society. From housing\, health car
 e\, employment\, and wealth accumulation to education and policing\, polic
 ies\, practices\, and institutions are being re-examined through the lens 
 of anti-racism and equity. Data\, and the systems that create and rely upo
 n data\, have been no exception.\n\nIn this online seminar\, audiences wil
 l hear from interdisciplinary experts as they define data equity and discu
 ss considerations of the ways in which data are collected\, analyzed\, int
 erpreted\, and distributed. This discussion will explore ways that data ca
 n reinforce stereotypes\, exacerbate problems like racial bias\, or otherw
 ise undermine social justice. Finally\, we will discuss how data equity ca
 n empower communities\, yield informed decision making\, and share best pr
 actices for inclusivity and improving data equity.\n\nClick Here to Regist
 er for this Event
ATTACH;FMTTYPE=image/jpeg:https://researchweek.unc.edu/wp-content/uploads/
 2022/09/011422_CPPFD1126.jpg
LOCATION:https://bit.ly/UNCrw_ovcr_ncds
END:VEVENT
BEGIN:VTIMEZONE
TZID:America/New_York
X-LIC-LOCATION:America/New_York
BEGIN:DAYLIGHT
DTSTART:20220313T030000
TZOFFSETFROM:-0500
TZOFFSETTO:-0400
TZNAME:EDT
END:DAYLIGHT
END:VTIMEZONE
END:VCALENDAR