BEGIN:VCALENDAR
VERSION:2.0
PRODID:-//wp-events-plugin.com//7.2.3.1//EN
TZID:America/New_York
X-WR-TIMEZONE:America/New_York
BEGIN:VEVENT
UID:4@researchweek.unc.edu
DTSTART;TZID=America/New_York;VALUE=DATE:20211108
DTEND;TZID=America/New_York;VALUE=DATE:20211113
DTSTAMP:20230712T191651Z
URL:https://researchweek.unc.edu/events/gsc-hammerhead-2021/
SUMMARY:Hammerhead Sharks\, Epic Migrations\, and Island Conservation
DESCRIPTION:Shark researcher Alex Hearn dives deeper into the world of shar
 k conversation as he reads from the book Marti the Hammerhead Shark\, a jo
 int collaboration between the Galapagos Science Center\, Galapagos Conserv
 ation Trust and MigraMar. Alex will use the story of Marti and his epic jo
 urney to answer your questions about sharks\, SCUBA diving\, conservation\
 , science and more! Make sure to check out the abundance of Marti resource
 s kids can use before and after this fun and informative session!\n\nPrese
 nter: Alex Hearn\n\n
ATTACH;FMTTYPE=image/jpeg:https://researchweek.unc.edu/wp-content/uploads/
 2021/10/Screen-Shot-2021-10-08-at-11.01.50-AM.png
LOCATION:https://www.youtube.com/embed/0NcMxxAGZVg
END:VEVENT
BEGIN:VTIMEZONE
TZID:America/New_York
X-LIC-LOCATION:America/New_York
BEGIN:STANDARD
DTSTART:20211107T010000
TZOFFSETFROM:-0400
TZOFFSETTO:-0500
TZNAME:EST
END:STANDARD
END:VTIMEZONE
END:VCALENDAR