BEGIN:VCALENDAR
VERSION:2.0
PRODID:-//wp-events-plugin.com//7.2.3.1//EN
TZID:America/New_York
X-WR-TIMEZONE:America/New_York
BEGIN:VEVENT
UID:19@researchweek.unc.edu
DTSTART;TZID=America/New_York:20211108T200000
DTEND;TZID=America/New_York:20211108T210000
DTSTAMP:20230712T200813Z
URL:https://researchweek.unc.edu/events/debating-public-policy-series-voti
 ng-reform-2021/
SUMMARY:[Recording Available] Debating Public Policy Series: Voting Reform 
 – an Agonistic Dialogue
DESCRIPTION:\n\nAcross the volatile landscape of American politics today\, 
 perhaps few issues remain more polarizing than voting reform. For this Deb
 ating Public Policy Series event\, the UNC Program for Public Discourse ho
 sts an agonistic dialogue between UNC Political Science Professor Jason Ro
 berts and Harvard Kennedy School Institute of Politics Fellow and UNC alum
 nus Douglas Heye\, who will share their competing perspectives on the cont
 entious issue. The event is moderated by Rick Su of the UNC School of Law.
ATTACH;FMTTYPE=image/jpeg:https://researchweek.unc.edu/wp-content/uploads/
 2021/10/023516_early_voting_celebration001-1.jpg
LOCATION:https://www.youtube.com/embed/3QP_fcP5fRI
END:VEVENT
BEGIN:VTIMEZONE
TZID:America/New_York
X-LIC-LOCATION:America/New_York
BEGIN:STANDARD
DTSTART:20211107T010000
TZOFFSETFROM:-0400
TZOFFSETTO:-0500
TZNAME:EST
END:STANDARD
END:VTIMEZONE
END:VCALENDAR