BEGIN:VCALENDAR
VERSION:2.0
PRODID:-//wp-events-plugin.com//7.2.3.1//EN
TZID:America/New_York
X-WR-TIMEZONE:America/New_York
BEGIN:VEVENT
UID:126@researchweek.unc.edu
DTSTART;TZID=America/New_York:20221013T140000
DTEND;TZID=America/New_York:20221013T150000
DTSTAMP:20230721T172942Z
URL:https://researchweek.unc.edu/events/data-driven-envirolab-2022/
SUMMARY:Data-Driven EnviroLab Monthly Research Seminar
DESCRIPTION:The Data-Driven EnviroLab\, led by Angel Hsu\, assistant profes
 sor of Public Policy and faculty member in the Environment\, Ecology and E
 nergy Program\, is hosting a monthly research seminar series this semester
  where researchers and colleagues of the lab will give talks and moderate 
 discussions about research\, often surrounding climate change. \n\nThis mo
 nth's featured speaker is Cassandra R. Davis\, an Assistant Professor of P
 ublic Policy at the University of North Carolina at Chapel Hill. Dr. Davis
  has researched environmental disruptions\, specifically the impact of nat
 ural hazards on low-income schooling communities of color. Dr. Davis’ go
 al is to support community leaders\, educators\, and policymakers to impro
 ve responses\, preparedness\, and recovery in areas with the highest need.
  Her most recent project focused on gathering insight from community membe
 rs and government officials on the best strategies to distribute equitable
  support to marginalized communities and build trust between groups.\n\nTh
 e seminar will take place on Thursday\, Oct. 13th at 2pm\, in Toy Lounge i
 n Dey Hall.\nThere will be snacks and interesting conversation - we hope t
 o see you there!
ATTACH;FMTTYPE=image/jpeg:https://researchweek.unc.edu/wp-content/uploads/
 2022/09/datadriven1.jpg
LOCATION:Dey Hall\, Toy Lounge\, 200 South Rd\, Chapel Hill\, North Carolin
 a\, 27514\, United States
X-APPLE-STRUCTURED-LOCATION;VALUE=URI;X-ADDRESS=200 South Rd\, Chapel Hill\
 , North Carolina\, 27514\, United States;X-APPLE-RADIUS=100;X-TITLE=Dey Ha
 ll\, Toy Lounge:geo:0,0
END:VEVENT
BEGIN:VTIMEZONE
TZID:America/New_York
X-LIC-LOCATION:America/New_York
BEGIN:DAYLIGHT
DTSTART:20220313T030000
TZOFFSETFROM:-0500
TZOFFSETTO:-0400
TZNAME:EDT
END:DAYLIGHT
END:VTIMEZONE
END:VCALENDAR