BEGIN:VCALENDAR
VERSION:2.0
PRODID:-//wp-events-plugin.com//7.2.3.1//EN
TZID:America/New_York
X-WR-TIMEZONE:America/New_York
BEGIN:VEVENT
UID:50@researchweek.unc.edu
DTSTART;TZID=America/New_York:20211111T120000
DTEND;TZID=America/New_York:20211111T130000
DTSTAMP:20230714T152934Z
URL:https://researchweek.unc.edu/events/core-facility-showcase-2021/
SUMMARY:Core Facility Showcase
DESCRIPTION:The School of Medicine Core Facilities are a critical of UNC's 
 research infrastructure\, and are an invaluable resource to researchers ac
 ross-campus. Join us for a virtual Core Facility Showcase that will featur
 e six of our cores: The Pathology Services Core\, Histology Research Core 
 Facility\, the CGIBD Histology Core\, Neuroscience Microscopy Core Facilit
 y\, the Microscopy Services Laboratory\, and the Hooker Imaging Core. More
  information about the core facilities can be found at https://www.med.unc
 .edu/corefacilities.\n\nClick here to register
ATTACH;FMTTYPE=image/jpeg:https://researchweek.unc.edu/wp-content/uploads/
 2021/10/020219_itano_michelle_microscopy_core012-1.jpg
LOCATION:https://www.med.unc.edu/oor/core-facility-showcase/
END:VEVENT
BEGIN:VTIMEZONE
TZID:America/New_York
X-LIC-LOCATION:America/New_York
BEGIN:STANDARD
DTSTART:20211107T010000
TZOFFSETFROM:-0400
TZOFFSETTO:-0500
TZNAME:EST
END:STANDARD
END:VTIMEZONE
END:VCALENDAR