BEGIN:VCALENDAR
VERSION:2.0
PRODID:-//wp-events-plugin.com//7.2.3.1//EN
TZID:America/New_York
X-WR-TIMEZONE:America/New_York
BEGIN:VEVENT
UID:152@researchweek.unc.edu
DTSTART;TZID=America/New_York:20231023T100000
DTEND;TZID=America/New_York:20231025T170000
DTSTAMP:20231016T184023Z
URL:https://researchweek.unc.edu/events/core-facilities-open-house-tours/
SUMMARY:Core Facilities Open House Tours
DESCRIPTION:Want more information about core facilities at UNC?  Want in-pe
 rson tours of specific core facilities to meet and interact with core dire
 ctors and staff?  Do you have a specific project for which core facility s
 ervices are needed? \n\nCore facilities serve as the backbone of UNC's res
 earch infrastructure. During this year's UNC Research Week (October 23-27)
  the School of Medicine Office of Research Technologies and the Office of 
 the Vice Chancellor for Research Research Core Development Team will be co
 ordinating core open houses and tours to allow researchers and potential c
 ustomers to experience UNC's core facilities in person.\n\nMeet the core d
 irectors and staff\, learn about new and upcoming events\, view our instru
 mentation\, and imagine how collaboration with our cores can expand your s
 cience! No registration necessary.\n\nClick Here for Information About UNC
  Core Facilities\n\nMonday\, October 23\nMorning Session (10am - 12pm)\n\n
 	High-Throughput Sequencing Facility - Genome Sciences Building\, Room 115
 3\n	Department of Chemistry: NMR Core - Caudill Labs\, Room 051\n	Departme
 nt of Chemistry: X-Ray Core - Caudill Labs\, Room 042\n	Department of Chem
 istry: Mass Spectrometry Core - Caudill Labs\, Room 040\n	Engineering Inno
 vations Lab - Kenan 2nd Floor (C249)\n\n\nAfternoon Session (2pm - 4pm)\n\
 n	Advanced Analytics - Medical Biomolecular Research Building\, Room 4331\
 n	Histology Research Core - Taylor Hall\, 2nd Floor\, Room 212\n	Hooker Im
 aging Core - Taylor Hall\, 2nd Floor\, Room 238\n	Microbiome Core - Taylor
  Hall\, 3rd Floor\, Room 312\n	Human Pluripotent Stem Cell Core - Taylor H
 all\, 5th Floor\, Room 540\n	CGIBD Histology Core - Taylor Hall\, 2nd Floo
 r\, Room 201\n	CFAR HIV/STD Laboratory - Taylor Hall\, 5th Floor\, Room 51
 0\n	Cryo-EM Core - Glaxo Research Building\, Basement\, Room 008\n	Michael
  Hooker Proteomics Center - Glaxo Research Building\, 1st Floor\, Room 111
 \n\n\nTuesday\, October 24\nMorning Session (10am - 12pm)\n\n	Respiratory 
 TRACTS Core - Koury Oral Health Sciences\, Room 4405\n	BioSpecimen Process
 ing Facility - Michael Hooker Research Center\, Room 3213\n	NORC: Metaboli
 c Phenotyping Core - Michael Hooker Research Center\n	Biomarker Mass Spect
 rometry Facility - Rosenau Hall\, Room 153\n\n\nAfternoon Session 1 (2pm -
  4pm)\n\n	Biomolecular NMR Core* - Marsico Hall\, Room 2004\n	UNC Flow Cyt
 ometry Core Facility* - Marsico Hall\, Room 2004\n	BRIC Small Animal Imagi
 ng Core* - Marsico Hall\, Room 2004\n	Translational Genomics Laboratory - 
 Marsico Hall\, 5th Floor\, Room 5118-A\n	Neuroscience Microscopy Core - Ma
 ry Ellen Jones Building\, Room 5114\n	LCCC Tissue Culture Facility - Lineb
 erger Comprehensive Cancer Center\, Room 31-318\nCores marked with an aste
 risk (*) have their physical location behind keycard access restricted spa
 ces. Please meet in Marsico Hall Rm 2004 to meet core personnel who will o
 rganize tours to the basements and sub-basements from this location\n\n\nA
 fternoon Session 2 (3pm - 5pm)\n\n	Cecil G. Sheps Center Data Analytics\, 
 Integrated Solutions\, and Research Computing - Sheps Center for Health Se
 rvices Research\n\n\nWednesday\, October 25\nMorning Session (10am - 12pm)
 \n\n	Microscopy Services Laboratory - Brinkhous-Bullitt Building\, Basemen
 t\, Room B05\n	Animal Clinical Laboratory Services - Brinkhous-Bullitt Bui
 lding\, 9th Floor\, Room 902\n	Pathology Services Core - Brinkhous-Bullitt
  Building\, 9th Floor\n\n\nAfternoon Session (2pm - 4pm)\n\n	CRISPR Screen
 ing Facility - Genetic Medicine Building\, Room 2074\n	CFAR Clinical Pharm
 acology and Analytical Chemistry Core - Genetic Medicine Building\n	High-T
 hroughput Peptide Synthesis and Array Core Facility - Genetic Medicine Bui
 lding - Genetic Medicine Building\, Room 3057\n	R.L. Juliano Structural Bi
 oinformatics Core - Genetic Medicine Building\, Room 3079\n	Advanced Trans
 lational Pharmacology and Analytical Chemistry Core - Genetic Medicine Bui
 lding\, Room 1017\n	Abacus Evaluation* - Genetic Medicine Building: Atrium
 \n	Rapid Case Ascertainment* - Genetic Medicine Building: Atrium\n	Rodent 
 Transgenic Colony Management Core* - Genetic Medicine Building: Atrium\n	M
 etabolomics and Exposome Laboratory Service Core* - Genetic Medicine Build
 ing: Atrium\n	Clinical Genomic Analysis (GENYSIS) Core* - Genetic Medicine
  Building: Atrium\n	IDDRC Clinical Translational Core* and Brain Measureme
 nt Lab* - Genetic Medicine Building: Atrium\n	Peptide Expression and Purif
 ication Core* - Genetic Medicine Building: Atrium\n	Macromolecular X-Ray C
 rystallography Core* - Genetic Medicine Building: Atrium\n	NORC: Clinical 
 Research Core* - Genetic Medicine Building: Atrium\n	NORC: Precision Nutri
 tion Core* - Genetic Medicine Building: Atrium\n	Department of Chemistry: 
 Mass Spectrometry Core* - Genetic Medicine Building: Atrium\n	National Gno
 tobiotic Rodent Resource Center* - Genetic Medicine Building: Atrium\nCore
 s marked with an asterisk (*) will be hosting a poster session in the Atri
 um (main lobby) of the Genetic Medicine Building\n\n\nClick Here for More 
 Information About the School of Medicine Core Facilities Tours
ATTACH;FMTTYPE=image/jpeg:https://researchweek.unc.edu/wp-content/uploads/
 2023/08/AKR_0924-scaled.jpg
CATEGORIES:Core Facilities,In-person Event,School of Medicine
LOCATION:Various Core Facilities across the UNC Campus\, List of Addresses 
 to be Included in Event Description\, Chapel Hill\, North Carolina\, 27514
 \, United States
X-APPLE-STRUCTURED-LOCATION;VALUE=URI;X-ADDRESS=List of Addresses to be Inc
 luded in Event Description\, Chapel Hill\, North Carolina\, 27514\, United
  States;X-APPLE-RADIUS=100;X-TITLE=Various Core Facilities across the UNC 
 Campus:geo:0,0
END:VEVENT
BEGIN:VTIMEZONE
TZID:America/New_York
X-LIC-LOCATION:America/New_York
BEGIN:DAYLIGHT
DTSTART:20230312T030000
TZOFFSETFROM:-0500
TZOFFSETTO:-0400
TZNAME:EDT
END:DAYLIGHT
END:VTIMEZONE
END:VCALENDAR