BEGIN:VCALENDAR
VERSION:2.0
PRODID:-//wp-events-plugin.com//7.2.3.1//EN
TZID:America/New_York
X-WR-TIMEZONE:America/New_York
BEGIN:VEVENT
UID:131@researchweek.unc.edu
DTSTART;TZID=America/New_York:20221013T160000
DTEND;TZID=America/New_York:20221013T173000
DTSTAMP:20230721T174236Z
URL:https://researchweek.unc.edu/events/columbia-street-lecture-2022/
SUMMARY:[Hybrid Event] 2nd Annual Columbia Street Lecture
DESCRIPTION:Monica R. McLemore RN\, MPH\, PhD\, FAAN is a tenured professor
  in the Child\, Family\, and Population Health Department and the Interim 
 Director for the Center for Anti-Racism in Nursing at the University of Wa
 shington School of Nursing. She retired from clinical practice as a public
  health and staff nurse after a 28-year clinical nursing career in 2019\, 
 however\, continues to provide flu and COVID-19 vaccines. Her research is 
 focused on reproductive justice. Her peer reviewed articles\, OpEds and co
 mmentaries have been cited in five amicus briefs to the Supreme Court of t
 he United States and three NASEM reports. She became Editor in Chief of He
 alth Equity in 2022.\n\nThe purpose of the lecture is to inspire\, interro
 gate\, and explore the ideas at the nexus of medicine\, nursing\, and publ
 ic health\, and to spur actions that move these ideas forward together.\n\
 nThe Columbia Street Lecture is inspired by the main north/south corridor 
 through campus. Columbia Street separates the Schools of Medicine\, Nursin
 g\, and Public Health at UNC.  For several decades\, medical\, nursing\, a
 nd public health faculty and students have crossed Columbia Street to brin
 g the two fields together.  This lecture celebrates those who helped bring
  together these worlds at UNC Chapel Hill.\n\n***If you cannot attend in p
 erson\, a Zoom link is also available. Please register to receive the Zoom
  link.***\n\nClick Here to Register for this Event
ATTACH;FMTTYPE=image/jpeg:https://researchweek.unc.edu/wp-content/uploads/
 2022/10/014922_summer_bridge_nursing019-1.jpg
LOCATION:Fox Auditorium\, 120 North Medical Drive\, Chapel Hill\, North Car
 olina\, 27514\, United States
X-APPLE-STRUCTURED-LOCATION;VALUE=URI;X-ADDRESS=120 North Medical Drive\, C
 hapel Hill\, North Carolina\, 27514\, United States;X-APPLE-RADIUS=100;X-T
 ITLE=Fox Auditorium:geo:0,0
END:VEVENT
BEGIN:VTIMEZONE
TZID:America/New_York
X-LIC-LOCATION:America/New_York
BEGIN:DAYLIGHT
DTSTART:20220313T030000
TZOFFSETFROM:-0500
TZOFFSETTO:-0400
TZNAME:EDT
END:DAYLIGHT
END:VTIMEZONE
END:VCALENDAR