BEGIN:VCALENDAR
VERSION:2.0
PRODID:-//wp-events-plugin.com//7.2.3.1//EN
TZID:America/New_York
X-WR-TIMEZONE:America/New_York
BEGIN:VEVENT
UID:128@researchweek.unc.edu
DTSTART;TZID=America/New_York:20221013T150000
DTEND;TZID=America/New_York:20221013T163000
DTSTAMP:20230721T173405Z
URL:https://researchweek.unc.edu/events/cleaning-data-openrefine-part1-202
 2/
SUMMARY:[PART 1] Cleaning Data with OpenRefine
DESCRIPTION:Data sets often have problematic content such as formatting inc
 onsistencies and incomplete elements that are beyond the capabilities of s
 preadsheet programs like Excel to deal with easily. OpenRefine is a powerf
 ul tool for working with messy data. It will help you do things like stand
 ardize date formatting\; split up cells with multiple authors into separat
 e cells\; match local data up to other data sets\; and enhance a data set 
 with data from other sources. \n\nPart 1 of this workshop will focus on th
 e basic functions of OpenRefine. \n\nPart 2 will focus on advanced feature
 s like fetching data from APIs\, reconciling data by comparing it to exter
 nal data sets\, and looking at extentions to OpenRefine to perform other t
 asks.\n\nClick Here to Register for this Event
ATTACH;FMTTYPE=image/jpeg:https://researchweek.unc.edu/wp-content/uploads/
 2022/09/openrefine.jpg
LOCATION:https://calendar.lib.unc.edu/event/9516715
END:VEVENT
BEGIN:VTIMEZONE
TZID:America/New_York
X-LIC-LOCATION:America/New_York
BEGIN:DAYLIGHT
DTSTART:20220313T030000
TZOFFSETFROM:-0500
TZOFFSETTO:-0400
TZNAME:EDT
END:DAYLIGHT
END:VTIMEZONE
END:VCALENDAR