BEGIN:VCALENDAR
VERSION:2.0
PRODID:-//wp-events-plugin.com//7.2.3.1//EN
TZID:America/New_York
X-WR-TIMEZONE:America/New_York
BEGIN:VEVENT
UID:125@researchweek.unc.edu
DTSTART;TZID=America/New_York:20221013T130000
DTEND;TZID=America/New_York:20221013T140000
DTSTAMP:20230721T172602Z
URL:https://researchweek.unc.edu/events/beginr-2022/
SUMMARY:beginR
DESCRIPTION:Learning R on your own? Want some help along the way? beginR is
  a series of virtual meetings organized by the University Libraries and th
 e Odum Institute that provides support to students\, faculty and staff who
  are learning the R programming language. The first week\, the instructors
  will introduce attendees to R\, help them install the software\, and shar
 e the materials that will be covered in subsequent meetings. In the follow
 ing weeks\, beginR attendees will learn R by following the lessons on the 
 R Open Labs website at their own pace. Each week\, staff will be available
  via Zoom to answer questions\, solve problems and provide the solutions t
 o exercises.\n\nIf registration becomes full\, recordings will be shared w
 ith those on the waitlist as well.\n\nbeginR is a collaboration between th
 e University Libraries and the Odum Institute. The workshops will be led b
 y librarians Lorin Bruckner and Matt Jansen\, and Nuvan Rathnayaka from th
 e Odum Institute.\n\nClick Here to Register for this Event
ATTACH;FMTTYPE=image/jpeg:https://researchweek.unc.edu/wp-content/uploads/
 2022/09/013118_WilsonLibraryStudying02-1200x675-1.jpeg
LOCATION:Davis Library Research Hub\, 208 Raleigh Street\, Chapel Hill\, No
 rth Carolina\, 27514\, United States
X-APPLE-STRUCTURED-LOCATION;VALUE=URI;X-ADDRESS=208 Raleigh Street\, Chapel
  Hill\, North Carolina\, 27514\, United States;X-APPLE-RADIUS=100;X-TITLE=
 Davis Library Research Hub:geo:0,0
END:VEVENT
BEGIN:VTIMEZONE
TZID:America/New_York
X-LIC-LOCATION:America/New_York
BEGIN:DAYLIGHT
DTSTART:20220313T030000
TZOFFSETFROM:-0500
TZOFFSETTO:-0400
TZNAME:EDT
END:DAYLIGHT
END:VTIMEZONE
END:VCALENDAR