BEGIN:VCALENDAR
VERSION:2.0
PRODID:-//wp-events-plugin.com//7.2.3.1//EN
TZID:America/New_York
X-WR-TIMEZONE:America/New_York
BEGIN:VEVENT
UID:17@researchweek.unc.edu
DTSTART;TZID=America/New_York:20211108T153000
DTEND;TZID=America/New_York:20211108T170000
DTSTAMP:20230712T200342Z
URL:https://researchweek.unc.edu/events/bbsp-session-one-2021/
SUMMARY:Biological and Biomedical Sciences Program Poster Session
DESCRIPTION:First-year PhD students in the Biological and Biomedical Scienc
 es Program will present posters on their research projects.
ATTACH;FMTTYPE=image/jpeg:https://researchweek.unc.edu/wp-content/uploads/
 2021/10/009918_undergraduate_research_celebration017.jpg
LOCATION:Lobbies of MBRB\, 111 Mason Farm Rd\, Chapel Hill\, North Carolina
 \, 27599\, United States
X-APPLE-STRUCTURED-LOCATION;VALUE=URI;X-ADDRESS=111 Mason Farm Rd\, Chapel 
 Hill\, North Carolina\, 27599\, United States;X-APPLE-RADIUS=100;X-TITLE=L
 obbies of MBRB:geo:0,0
END:VEVENT
BEGIN:VTIMEZONE
TZID:America/New_York
X-LIC-LOCATION:America/New_York
BEGIN:STANDARD
DTSTART:20211107T010000
TZOFFSETFROM:-0400
TZOFFSETTO:-0500
TZNAME:EST
END:STANDARD
END:VTIMEZONE
END:VCALENDAR