BEGIN:VCALENDAR
VERSION:2.0
PRODID:-//wp-events-plugin.com//7.2.3.1//EN
TZID:America/New_York
X-WR-TIMEZONE:America/New_York
BEGIN:VEVENT
UID:260@researchweek.unc.edu
DTSTART;TZID=America/New_York:20241021T090000
DTEND;TZID=America/New_York:20241025T170000
DTSTAMP:20240923T115658Z
URL:https://researchweek.unc.edu/events/art-in-science-competition-2024/
SUMMARY:Art in Science Competition Winner Display
DESCRIPTION:In celebration of 2024 University Research Week (October 21-25)
 \, the School of Medicine solicited nominations for innovative scientific 
 images that showcase the outstanding biomedical research in the School and
  the beauty that is reflected in the science.\n\nFor the entire research w
 eek\, the winning images of the School of Medicine Art in Science Competit
 ion will be on display in the first floor auditorium of Bondurant Hall. Co
 me celebrate the exceptional work done in the School of Medicine!\n\nWant 
 to submit an piece of art? Click here for more information. (Due date is S
 eptember 30\, 2024)\n\nFeature image: Allaura Cone\, PhD\, Meredith Chambe
 rs\, and Dirk Dittmer\, PhD\, in the UNC Department of Microbiology & Immu
 nology and the UNC Lineberger Comprehensive Cancer Center\, were recognize
 d in 2023 for their image titled\, “Endolysosomal Compartments in U-2 OS
  Cells\,” fixed and stained with CD81 (cyan)\, LAMP1 (magenta)\, and Rho
 damine-Phalloidin (yellow). Imaged at 100x on a confocal microscope\, tetr
 aspanin CD81 and Lysosome-associated membraine glycoprotein 1 (LAMP1) are 
 important for the trafficking of extracellular vesicles throughout the cel
 l.
ATTACH;FMTTYPE=image/jpeg:https://researchweek.unc.edu/wp-content/uploads/
 2024/09/Art-In-Science-poster-1-dittmer-2023-scaled-1.jpg
CATEGORIES:In-person Event,School of Medicine
LOCATION:Bondurant Hall\, First Floor Auditorium\, 321 S Columbia St\, Chap
 el Hill\, North Carolina\, 27514\, United States
X-APPLE-STRUCTURED-LOCATION;VALUE=URI;X-ADDRESS=321 S Columbia St\, Chapel 
 Hill\, North Carolina\, 27514\, United States;X-APPLE-RADIUS=100;X-TITLE=B
 ondurant Hall\, First Floor Auditorium:geo:0,0
END:VEVENT
BEGIN:VTIMEZONE
TZID:America/New_York
X-LIC-LOCATION:America/New_York
BEGIN:DAYLIGHT
DTSTART:20240310T030000
TZOFFSETFROM:-0500
TZOFFSETTO:-0400
TZNAME:EDT
END:DAYLIGHT
END:VTIMEZONE
END:VCALENDAR