BEGIN:VCALENDAR
VERSION:2.0
PRODID:-//wp-events-plugin.com//7.2.3.1//EN
TZID:America/New_York
X-WR-TIMEZONE:America/New_York
BEGIN:VEVENT
UID:8@researchweek.unc.edu
DTSTART;TZID=America/New_York;VALUE=DATE:20211108
DTEND;TZID=America/New_York;VALUE=DATE:20211113
DTSTAMP:20230712T192730Z
URL:https://researchweek.unc.edu/events/art-in-science-2021-winners/
SUMMARY:Art in Science Competition 2021 Winners Display
DESCRIPTION:Scientists in the UNC School of Medicine (SOM) truly embody the
  UNC Health tagline- “Scientists of Discovery\, Artists of Innovation”
 . In celebration of 2021 University Research Week \, the SOM solicited inn
 ovative scientific images that showcase the outstanding biomedical researc
 h in the School and the beauty that is reflected in the science. Come see 
 the winning submissions on display in the ground floor lobby of Bondurant 
 Hall!
ATTACH;FMTTYPE=image/jpeg:https://researchweek.unc.edu/wp-content/uploads/
 2021/09/Chanl.1st-Place-–-Autumn-Sanson.BeadyNight-700x525-1.png
LOCATION:Bondurant Hall\, 321 S Columbia Street\, Chapel Hill\, North Carol
 ina\, 27514\, United States
X-APPLE-STRUCTURED-LOCATION;VALUE=URI;X-ADDRESS=321 S Columbia Street\, Cha
 pel Hill\, North Carolina\, 27514\, United States;X-APPLE-RADIUS=100;X-TIT
 LE=Bondurant Hall:geo:0,0
END:VEVENT
BEGIN:VTIMEZONE
TZID:America/New_York
X-LIC-LOCATION:America/New_York
BEGIN:STANDARD
DTSTART:20211107T010000
TZOFFSETFROM:-0400
TZOFFSETTO:-0500
TZNAME:EST
END:STANDARD
END:VTIMEZONE
END:VCALENDAR