BEGIN:VCALENDAR
VERSION:2.0
PRODID:-//wp-events-plugin.com//7.2.3.1//EN
TZID:America/New_York
X-WR-TIMEZONE:America/New_York
BEGIN:VEVENT
UID:133@researchweek.unc.edu
DTSTART;TZID=America/New_York:20221013T170000
DTEND;TZID=America/New_York:20221013T183000
DTSTAMP:20230721T174802Z
URL:https://researchweek.unc.edu/events/an-evening-with-michael-schur-2022
 /
SUMMARY:A Parr Center Special Presentation: An Evening with Michael Schur
DESCRIPTION:Join the Parr Center in the Carolina Union for An Evening with 
 Michael Schur\, creator of the hit series The Good Place\, in conversation
  with consulting philosopher Todd May (Warren Wilson College). Discussion 
 will focus on Schur’s new book\, How to Be Perfect: The Correct Answer t
 o Every Moral Question.\n\nLight refreshments and a book signing will foll
 ow the discussion. 
ATTACH;FMTTYPE=image/jpeg:https://researchweek.unc.edu/wp-content/uploads/
 2022/09/Schur-Event.png
LOCATION:Union Auditorium\, 209 South Road\, Chapel Hill\, North Carolina\,
  27599\, United States
X-APPLE-STRUCTURED-LOCATION;VALUE=URI;X-ADDRESS=209 South Road\, Chapel Hil
 l\, North Carolina\, 27599\, United States;X-APPLE-RADIUS=100;X-TITLE=Unio
 n Auditorium:geo:0,0
END:VEVENT
BEGIN:VTIMEZONE
TZID:America/New_York
X-LIC-LOCATION:America/New_York
BEGIN:DAYLIGHT
DTSTART:20220313T030000
TZOFFSETFROM:-0500
TZOFFSETTO:-0400
TZNAME:EDT
END:DAYLIGHT
END:VTIMEZONE
END:VCALENDAR