BEGIN:VCALENDAR
VERSION:2.0
PRODID:-//wp-events-plugin.com//7.2.3.1//EN
TZID:America/New_York
X-WR-TIMEZONE:America/New_York
BEGIN:VEVENT
UID:82@researchweek.unc.edu
DTSTART;TZID=America/New_York:20221010T150000
DTEND;TZID=America/New_York:20221010T170000
DTSTAMP:20230719T185542Z
URL:https://researchweek.unc.edu/events/ahrq-nrsa-seminar-2022/
SUMMARY:AHRQ/NRSA Seminar | Expanding the diversity of participant pools
DESCRIPTION:Chris Jensen\, MD\n2nd Year NRSA Postdoctoral Trainee\n“Work 
 in Progress”\n\nEssie Torres\nDirector of Strategy for Research Diversit
 y Workforce and Community Partnerships\nOffice of the Vice Chancellor for 
 Research\n“Expanding the diversity of participant pools”\nClick Here f
 or More Information About this Event
ATTACH;FMTTYPE=image/jpeg:https://researchweek.unc.edu/wp-content/uploads/
 2022/09/011422_CPPFD1445.jpg
LOCATION:Cecil G. Sheps Center for Health Service Research\, Room 2002\, 72
 5 Martin Luther King Jr. Blvd.\, Chapel Hill\, North Carolina\, 27599\, Un
 ited States
X-APPLE-STRUCTURED-LOCATION;VALUE=URI;X-ADDRESS=725 Martin Luther King Jr. 
 Blvd.\, Chapel Hill\, North Carolina\, 27599\, United States;X-APPLE-RADIU
 S=100;X-TITLE=Cecil G. Sheps Center for Health Service Research\, Room 200
 2:geo:0,0
END:VEVENT
BEGIN:VTIMEZONE
TZID:America/New_York
X-LIC-LOCATION:America/New_York
BEGIN:DAYLIGHT
DTSTART:20220313T030000
TZOFFSETFROM:-0500
TZOFFSETTO:-0400
TZNAME:EDT
END:DAYLIGHT
END:VTIMEZONE
END:VCALENDAR