BEGIN:VCALENDAR
VERSION:2.0
PRODID:-//wp-events-plugin.com//7.2.3.1//EN
TZID:America/New_York
X-WR-TIMEZONE:America/New_York
BEGIN:VEVENT
UID:86@researchweek.unc.edu
DTSTART;TZID=America/New_York:20221011T100000
DTEND;TZID=America/New_York:20221011T110000
DTSTAMP:20230719T191024Z
URL:https://researchweek.unc.edu/events/advancing-health-equity-solutions-
 2022/
SUMMARY:Advancing Health Equity Solutions at UNC
DESCRIPTION:This session features the work of leading campus health equity 
 researchers. All are working towards developing solutions to reduce critic
 al social and racial inequities. \n\nAt this event we will also present th
 e Gillings Health Equity Faculty Research Award\, which recognizes excelle
 nce in research by faculty in the Gillings School of Global Public Health 
 that advances solutions to health inequities. In addition\, we feature spe
 akers from the Center for Health Equity Research and the School of Social 
 Work that present work addressing health equity solutions.\n\nClick Here t
 o Register for this Online Event\n\nEvent photo credit: Jorge Elías
ATTACH;FMTTYPE=image/jpeg:https://researchweek.unc.edu/wp-content/uploads/
 2022/09/3704917769_2dacc64705_k.jpg
LOCATION:https://unc.zoom.us/webinar/register/WN_2xI6o0fNTYaXoJNuZqfmsQ
END:VEVENT
BEGIN:VTIMEZONE
TZID:America/New_York
X-LIC-LOCATION:America/New_York
BEGIN:DAYLIGHT
DTSTART:20220313T030000
TZOFFSETFROM:-0500
TZOFFSETTO:-0400
TZNAME:EDT
END:DAYLIGHT
END:VTIMEZONE
END:VCALENDAR